BEGIN:VCALENDAR
VERSION:2.0
PRODID:-//Boston Broadside    Notes Between Printed Issues - Subscribe to the Printed Newspaper   - There is no paper like the broadside! - ECPv6.15.16//NONSGML v1.0//EN
CALSCALE:GREGORIAN
METHOD:PUBLISH
X-WR-CALNAME:Boston Broadside    Notes Between Printed Issues - Subscribe to the Printed Newspaper   - There is no paper like the broadside!
X-ORIGINAL-URL:https://www.bostonbroadside.com
X-WR-CALDESC:Events for Boston Broadside    Notes Between Printed Issues - Subscribe to the Printed Newspaper   - There is no paper like the broadside!
REFRESH-INTERVAL;VALUE=DURATION:PT1H
X-Robots-Tag:noindex
X-PUBLISHED-TTL:PT1H
BEGIN:VTIMEZONE
TZID:UTC
BEGIN:STANDARD
TZOFFSETFROM:+0000
TZOFFSETTO:+0000
TZNAME:UTC
DTSTART:20210101T000000
END:STANDARD
END:VTIMEZONE
BEGIN:VEVENT
DTSTART;TZID=UTC:20220803T110000
DTEND;TZID=UTC:20220803T120000
DTSTAMP:20260421T211828
CREATED:20220727T143453Z
LAST-MODIFIED:20220727T143453Z
UID:11096-1659524400-1659528000@www.bostonbroadside.com
SUMMARY:The Christian Flag Will Fly in Boston! -
DESCRIPTION:Please note. The extremist Boston Mayor Wu prevented the Christian Flag from being flown. Even after 100s of other flags\, including those for other religions (Muslim)\, and many other extremist organizations got to fly their flags. \nIt took Hal Shurtleff and Liberty Counsel to take this issue of fairness to the Supreme Court. Their decision against Mayor Wu was 9-0. A total slam-down. \nWu’s response: after this flag flies\, no more. No mas. no more flags ever from any organization. If she can’t stop the Christian flag\, then no one can fly a flag.
URL:https://www.bostonbroadside.com/event/the-christian-flag-will-fly-in-boston/
CATEGORIES:Christian
ATTACH;FMTTYPE=image/png:https://www.bostonbroadside.com/wp-content/uploads/2022/07/Flagraising.png
END:VEVENT
END:VCALENDAR