BEGIN:VCALENDAR
VERSION:2.0
PRODID:-//Boston Broadside    Notes Between Printed Issues - Subscribe to the Printed Newspaper   - There is no paper like the broadside! - ECPv6.15.16//NONSGML v1.0//EN
CALSCALE:GREGORIAN
METHOD:PUBLISH
X-ORIGINAL-URL:https://www.bostonbroadside.com
X-WR-CALDESC:Events for Boston Broadside    Notes Between Printed Issues - Subscribe to the Printed Newspaper   - There is no paper like the broadside!
REFRESH-INTERVAL;VALUE=DURATION:PT1H
X-Robots-Tag:noindex
X-PUBLISHED-TTL:PT1H
BEGIN:VTIMEZONE
TZID:America/New_York
BEGIN:DAYLIGHT
TZOFFSETFROM:-0500
TZOFFSETTO:-0400
TZNAME:EDT
DTSTART:20190310T070000
END:DAYLIGHT
BEGIN:STANDARD
TZOFFSETFROM:-0400
TZOFFSETTO:-0500
TZNAME:EST
DTSTART:20191103T060000
END:STANDARD
BEGIN:DAYLIGHT
TZOFFSETFROM:-0500
TZOFFSETTO:-0400
TZNAME:EDT
DTSTART:20200308T070000
END:DAYLIGHT
BEGIN:STANDARD
TZOFFSETFROM:-0400
TZOFFSETTO:-0500
TZNAME:EST
DTSTART:20201101T060000
END:STANDARD
BEGIN:DAYLIGHT
TZOFFSETFROM:-0500
TZOFFSETTO:-0400
TZNAME:EDT
DTSTART:20210314T070000
END:DAYLIGHT
BEGIN:STANDARD
TZOFFSETFROM:-0400
TZOFFSETTO:-0500
TZNAME:EST
DTSTART:20211107T060000
END:STANDARD
END:VTIMEZONE
BEGIN:VEVENT
DTSTART;TZID=America/New_York:20200715T160000
DTEND;TZID=America/New_York:20200715T171500
DTSTAMP:20260421T135053
CREATED:20200711T001515Z
LAST-MODIFIED:20200711T013018Z
UID:5055-1594828800-1594833300@www.bostonbroadside.com
SUMMARY:Come Hold Signs With Us in Medford! for CAROLINE COLARUSSO - FOR U.S. CONGRESS - Mass. District 5
DESCRIPTION:Wednesday\, July 15\, 2020  \nfrom 4:00 PM to 5:15 PM \nOn the sidewalk near  \nMedford City Hall \n85 George P Hassett Drive \nMedford\, MA 02155 \n  \nCLICK >>HERE<< TO RSVP \nThere is also Police Appreciation Rally beginning at 5:30.\nWe will put our campaign signs away to respect our dedicated law enforcement officers at the Police Appreciation Rally. You are welcome to stay and let the Police know you appreciate them.
URL:https://www.bostonbroadside.com/event/come-hold-signs-with-us-in-medford-for-caroline-colarusso-for-u-s-congress-mass-district-5/
CATEGORIES:Mass
ATTACH;FMTTYPE=image/jpeg:https://www.bostonbroadside.com/wp-content/uploads/2020/07/COLARUSSO.jpg
END:VEVENT
BEGIN:VEVENT
DTSTART;TZID=America/New_York:20200716T110000
DTEND;TZID=America/New_York:20200716T140000
DTSTAMP:20260421T135053
CREATED:20200715T225825Z
LAST-MODIFIED:20200715T225825Z
UID:5093-1594897200-1594908000@www.bostonbroadside.com
SUMMARY:Back the Blue Rally - Boston State House
DESCRIPTION:
URL:https://www.bostonbroadside.com/event/back-the-blue-rally-boston-state-house/
CATEGORIES:Mass
END:VEVENT
BEGIN:VEVENT
DTSTART;TZID=America/New_York:20200721T130000
DTEND;TZID=America/New_York:20200721T133000
DTSTAMP:20260421T135053
CREATED:20200715T230250Z
LAST-MODIFIED:20200715T230748Z
UID:5097-1595336400-1595338200@www.bostonbroadside.com
SUMMARY:Jay McMahon for Senate - A True Republican - Press Conference
DESCRIPTION:I cannot begin to thank all of you for your support and encouragement that you have shown me during our past Special Election. \n  \nAs you know\, I am on the ballot for the November Election\, and I do not have a Republican Primary opponent in September. I have made the final Decision to press on\, and I will be holding an Announcing Press Conference next Tuesday\, July 21\, alongside the Cape Cod Canal\, at 20 Freezer Road in Sandwich\, at 1pm. Please come and join me! \n  \nThe decision became easy in light of Sue Moran’s vote for the so-called “Police Reform Bill”. Not only did she vote for this misguided bill\, but she also voted in favor of repealing qualified immunity for officers that now hurts both the police and firefighters. Bottom Line\, she voted to jeopardize our Public Safety!  \n  \nThere were 145 amendments attached to this Bill. Moran did not file one! \n  \nThe debate on this terrible Bill lasted over 5 days. Moran said nothing. \n  \nMoran sat silently while the complaints flooded in about there being no Public Hearing on this very damaging Bill. \n  \nI am not surprised. Last March\, the Senate President held a lobbyist fundraiser for Moran. And so we know where her loyalties lie. \n  \nMoran never once stood up for this District. I am not willing to allow this to continue. Will you join with me for this important Announcing Press Conference on Tuesday\, July 21? \n  \nIf you cannot join me\, will you let me know that you are with me by clicking here to donate or volunteer. \n  \nI am so grateful to you for standing with me through the Special Election campaign. I could not have taken on the entire Massachusetts State Democrat machine apparatus without you. I will be forever grateful! However\, now I need to know you will be with me for the November campaign. \n  \nMoran has more than proven that she is a leftist and swamp-swimming Senator. She does not care about the issues facing the people in this District. Will you help me defeat her once and for all in November? \n  \nI hope that I can count on you! \n  \nSincerely\, \n  \nJay McMahon\n\n\n\n\n\n\n\n  \n\n\n\n\n\n\n\n‌ ‌
URL:https://www.bostonbroadside.com/event/jay-mcmahon-for-senate-a-true-republican-press-conference/
CATEGORIES:Mass
ATTACH;FMTTYPE=image/jpeg:https://www.bostonbroadside.com/wp-content/uploads/2020/02/JayMcMahon_logo.jpg
END:VEVENT
BEGIN:VEVENT
DTSTART;TZID=America/New_York:20200723T183000
DTEND;TZID=America/New_York:20200723T193000
DTSTAMP:20260421T135053
CREATED:20200717T180526Z
LAST-MODIFIED:20200717T180526Z
UID:5116-1595529000-1595532600@www.bostonbroadside.com
SUMMARY:Boxford Republican Town Committee "MEET THE CANDIDATES NIGHT"  - Bring your own lawn chair
DESCRIPTION:On July 23rd at 6:30pm\, the Boxford Republican Town Committee will be sponsoring a socially distancing “meet the candidates” night at 25 Powderhouse Lane\, Boxford. \nPlease bring your own lawn chair and your own snack/beverage of choice.  No refreshments will be served.  Masks strongly suggested. \nNon-BRTC members are welcome. \nPlease contact Missie Bankes with questions at CLICKHEREFORE-MAIL-LINK. \nThe slate of candidates include: \nJeff Dufours – State Rep candidate for Boxford precinct 1 \nState Rep Lenny Mirra –\nState Rep candidate for re-election Boxford precincts 2 & 3 \nKevin O’Connor – candidate for US Senate \nJohn Paul Moran – candidate for US Congress
URL:https://www.bostonbroadside.com/event/boxford-republican-town-committee-meet-the-candidates-night-bring-your-own-lawn-chair/
CATEGORIES:Mass
ATTACH;FMTTYPE=image/jpeg:https://www.bostonbroadside.com/wp-content/uploads/2020/07/boxfordrtc.jpg
END:VEVENT
BEGIN:VEVENT
DTSTART;TZID=America/New_York:20200729T071500
DTEND;TZID=America/New_York:20200729T081500
DTSTAMP:20260421T135053
CREATED:20200728T041635Z
LAST-MODIFIED:20200728T041635Z
UID:5195-1596006900-1596010500@www.bostonbroadside.com
SUMMARY:RON BEATY STANDOUT - JULY 29th
DESCRIPTION:For anyone interested in participating\, we are scheduling a RON BEATY for COUNTY COMMISSIONER STANDOUT  7:15 AM\, Wednesday\, July 29th at the Route 6 Orleans Rotary. \n  \n“BEATY” Campaign Signs will be provided. \n  \nPlease also bring American Flags and Trump Gear as well.
URL:https://www.bostonbroadside.com/event/ron-beaty-standout-july-29th/
CATEGORIES:Mass
END:VEVENT
BEGIN:VEVENT
DTSTART;TZID=America/New_York:20200731T150000
DTEND;TZID=America/New_York:20200731T163000
DTSTAMP:20260421T135053
CREATED:20200731T193210Z
LAST-MODIFIED:20200731T193327Z
UID:5230-1596207600-1596213000@www.bostonbroadside.com
SUMMARY:Meet Dr. SHIVA in Reading - CANDIDATE FOR SENATE
DESCRIPTION:Meet Dr. SHIVA at Reading\n\nCome meet Dr. SHIVA\, and pick up lawn signs and bumper stickers. Vote for Dr.SHIVA September 1 to WIN Truth Freedom Health. \n 3:00 pm – 4:30 pm ( EDT )\n Near Town Common\, Crossroads of Woburn St. and Main St.\, Reading\, MA
URL:https://www.bostonbroadside.com/event/meet-dr-shiva-in-reading-candidate-for-senate/
CATEGORIES:Mass
ATTACH;FMTTYPE=image/jpeg:https://www.bostonbroadside.com/wp-content/uploads/2020/03/2020_1_SHIVA_article.jpg
END:VEVENT
BEGIN:VEVENT
DTSTART;TZID=America/New_York:20200731T170000
DTEND;TZID=America/New_York:20200731T183000
DTSTAMP:20260421T135053
CREATED:20200731T191133Z
LAST-MODIFIED:20200731T191223Z
UID:5216-1596214800-1596220200@www.bostonbroadside.com
SUMMARY:Meet Dr. SHIVA at Billerica   CANDIDATE FOR SENATE
DESCRIPTION:Meet Dr. SHIVA at Billerica\n\nCome meet Dr. SHIVA\, and pick up lawn signs and bumper stickers. Vote for Dr.SHIVA September 1 to WIN Truth Freedom Health. \n 5:00 pm – 6:30 pm ( EDT )\n Near 446 Boston St.\, Billerica\, MA\n\n\n5:00 pm
URL:https://www.bostonbroadside.com/event/meet-dr-shiva-at-billerica-candidate-for-senate/
CATEGORIES:Mass
ATTACH;FMTTYPE=image/jpeg:https://www.bostonbroadside.com/wp-content/uploads/2020/03/2020_1__SHIVA.jpg
END:VEVENT
END:VCALENDAR