BEGIN:VCALENDAR
VERSION:2.0
PRODID:-//Boston Broadside    Notes Between Printed Issues - Subscribe to the Printed Newspaper   - There is no paper like the broadside! - ECPv6.15.16//NONSGML v1.0//EN
CALSCALE:GREGORIAN
METHOD:PUBLISH
X-ORIGINAL-URL:https://www.bostonbroadside.com
X-WR-CALDESC:Events for Boston Broadside    Notes Between Printed Issues - Subscribe to the Printed Newspaper   - There is no paper like the broadside!
REFRESH-INTERVAL;VALUE=DURATION:PT1H
X-Robots-Tag:noindex
X-PUBLISHED-TTL:PT1H
BEGIN:VTIMEZONE
TZID:America/New_York
BEGIN:DAYLIGHT
TZOFFSETFROM:-0500
TZOFFSETTO:-0400
TZNAME:EDT
DTSTART:20190310T070000
END:DAYLIGHT
BEGIN:STANDARD
TZOFFSETFROM:-0400
TZOFFSETTO:-0500
TZNAME:EST
DTSTART:20191103T060000
END:STANDARD
BEGIN:DAYLIGHT
TZOFFSETFROM:-0500
TZOFFSETTO:-0400
TZNAME:EDT
DTSTART:20200308T070000
END:DAYLIGHT
BEGIN:STANDARD
TZOFFSETFROM:-0400
TZOFFSETTO:-0500
TZNAME:EST
DTSTART:20201101T060000
END:STANDARD
BEGIN:DAYLIGHT
TZOFFSETFROM:-0500
TZOFFSETTO:-0400
TZNAME:EDT
DTSTART:20210314T070000
END:DAYLIGHT
BEGIN:STANDARD
TZOFFSETFROM:-0400
TZOFFSETTO:-0500
TZNAME:EST
DTSTART:20211107T060000
END:STANDARD
END:VTIMEZONE
BEGIN:VEVENT
DTSTART;TZID=America/New_York:20200829T080000
DTEND;TZID=America/New_York:20200829T170000
DTSTAMP:20260421T135250
CREATED:20200826T125520Z
LAST-MODIFIED:20200826T125540Z
UID:5641-1598688000-1598720400@www.bostonbroadside.com
SUMMARY:Trump Standouts  SATURDAY
DESCRIPTION:8/29/20 \n8am start \nDrive By Trump’n ROUND 2 \n620 Spring Street \nNorth Dighton\, MA \n\nhttps://bit.ly/3aToLYR\n\n  \n8/29/20 \n10am to 12pm \nSidewalk at Common \nRoute 9 \nWest Brookfield\, MA \n\nhttps://bit.ly/3lbiFro\n\n  \n8/29/20 \n10am to 12pm \n180 Littleton Road \nWestford\, MA \n\nhttps://bit.ly/3hEJodC\n\n  \n8/29/20 (and\, every Saturday) \n12pm to 2pm \nPlymouth Rock \n79 Water Street \nPlymouth\, MA \n\nhttps://bit.ly/3gpGfNv\n\n8/29/20 \n1pm to 3pm \nCentral Park \n242 Church Street \nClinton\, MA \n\nhttps://bit.ly/3gtiDaE
URL:https://www.bostonbroadside.com/event/trump-standouts-saturday/
CATEGORIES:Mass
END:VEVENT
BEGIN:VEVENT
DTSTART;TZID=America/New_York:20200829T100000
DTEND;TZID=America/New_York:20200829T113000
DTSTAMP:20260421T135250
CREATED:20200826T125824Z
LAST-MODIFIED:20200826T125824Z
UID:5644-1598695200-1598700600@www.bostonbroadside.com
SUMMARY:NO Forced Vaccinations – RALLY for Truth Freedom Health
DESCRIPTION:29\nAugust\n\n\n\n\nNO Forced Vaccinations – RALLY for Truth Freedom Health\n\nJoin Dr.SHIVA at the NO Forced Vaccinations Rally – a Rally for Truth Freedom Health. RSVP details inside. \n10:00 am – 1:00 pm ( EDT )\nParkman Bandstand\, Boston Common\, 139 Tremont Street\, Boston\, MA\n\nhttps://shiva4senate.com/events/
URL:https://www.bostonbroadside.com/event/no-forced-vaccinations-rally-for-truth-freedom-health/
CATEGORIES:Mass
ATTACH;FMTTYPE=image/jpeg:https://www.bostonbroadside.com/wp-content/uploads/2020/08/DRSHIVA_BANNER.jpg
END:VEVENT
BEGIN:VEVENT
DTSTART;TZID=America/New_York:20200829T110000
DTEND;TZID=America/New_York:20200829T160000
DTSTAMP:20260421T135250
CREATED:20200829T043859Z
LAST-MODIFIED:20200829T043859Z
UID:5702-1598698800-1598716800@www.bostonbroadside.com
SUMMARY:UNITED CAPE PATRIOTS - TRUMP/BACK THE BLUE SATURDAY   - SANDWICH\, BOURNE
DESCRIPTION:11 – 1pm – Quaker Meeting House Rd. & Cotuit Rd.\, Sandwich \n  \n2- 4 pm Bourne Bridge Rotary \n  \nunitedcapepatriots.com \n 
URL:https://www.bostonbroadside.com/event/united-cape-patriots-trump-back-the-blue-saturday-sandwich-bourne/
CATEGORIES:Mass
ATTACH;FMTTYPE=image/jpeg:https://www.bostonbroadside.com/wp-content/uploads/2020/08/UnitedCapePatriots.jpg
END:VEVENT
BEGIN:VEVENT
DTSTART;TZID=America/New_York:20200829T170000
DTEND;TZID=America/New_York:20200829T180000
DTSTAMP:20260421T135250
CREATED:20200826T130035Z
LAST-MODIFIED:20200826T130035Z
UID:5648-1598720400-1598724000@www.bostonbroadside.com
SUMMARY:Truth Freedom Health Innovation Tour – Chicopee
DESCRIPTION:Truth Freedom Health Innovation Tour – Chicopee\n\n 7:00 pm – 8:30 pm ( EDT )\n 591 Memorial Dr\, Chicopee\, MA\n\n\n7:00 pm
URL:https://www.bostonbroadside.com/event/truth-freedom-health-innovation-tour-chicopee/
CATEGORIES:Mass
ATTACH;FMTTYPE=image/jpeg:https://www.bostonbroadside.com/wp-content/uploads/2020/08/DRSHIVA_BANNER.jpg
END:VEVENT
BEGIN:VEVENT
DTSTART;TZID=America/New_York:20200829T170000
DTEND;TZID=America/New_York:20200829T183000
DTSTAMP:20260421T135250
CREATED:20200826T125944Z
LAST-MODIFIED:20200826T125944Z
UID:5646-1598720400-1598725800@www.bostonbroadside.com
SUMMARY:Truth Freedom Health Innovation Tour – Worcester
DESCRIPTION:Truth Freedom Health Innovation Tour – Worcester\n\n5:00 pm – 6:30 pm ( EDT )\nElm Park\, 138 Russell St\, Worcester\, MA\n\nhttps://shiva4senate.com/events/
URL:https://www.bostonbroadside.com/event/truth-freedom-health-innovation-tour-worcester/
CATEGORIES:Mass
ATTACH;FMTTYPE=image/jpeg:https://www.bostonbroadside.com/wp-content/uploads/2020/08/DRSHIVA_BANNER.jpg
END:VEVENT
END:VCALENDAR