BEGIN:VCALENDAR
VERSION:2.0
PRODID:-//Boston Broadside    Notes Between Printed Issues - Subscribe to the Printed Newspaper   - There is no paper like the broadside! - ECPv6.15.16//NONSGML v1.0//EN
CALSCALE:GREGORIAN
METHOD:PUBLISH
X-ORIGINAL-URL:https://www.bostonbroadside.com
X-WR-CALDESC:Events for Boston Broadside    Notes Between Printed Issues - Subscribe to the Printed Newspaper   - There is no paper like the broadside!
REFRESH-INTERVAL;VALUE=DURATION:PT1H
X-Robots-Tag:noindex
X-PUBLISHED-TTL:PT1H
BEGIN:VTIMEZONE
TZID:America/New_York
BEGIN:DAYLIGHT
TZOFFSETFROM:-0500
TZOFFSETTO:-0400
TZNAME:EDT
DTSTART:20190310T070000
END:DAYLIGHT
BEGIN:STANDARD
TZOFFSETFROM:-0400
TZOFFSETTO:-0500
TZNAME:EST
DTSTART:20191103T060000
END:STANDARD
BEGIN:DAYLIGHT
TZOFFSETFROM:-0500
TZOFFSETTO:-0400
TZNAME:EDT
DTSTART:20200308T070000
END:DAYLIGHT
BEGIN:STANDARD
TZOFFSETFROM:-0400
TZOFFSETTO:-0500
TZNAME:EST
DTSTART:20201101T060000
END:STANDARD
BEGIN:DAYLIGHT
TZOFFSETFROM:-0500
TZOFFSETTO:-0400
TZNAME:EDT
DTSTART:20210314T070000
END:DAYLIGHT
BEGIN:STANDARD
TZOFFSETFROM:-0400
TZOFFSETTO:-0500
TZNAME:EST
DTSTART:20211107T060000
END:STANDARD
END:VTIMEZONE
BEGIN:VEVENT
DTSTART;TZID=America/New_York:20201003T100000
DTEND;TZID=America/New_York:20201003T120000
DTSTAMP:20260421T105246
CREATED:20200929T130943Z
LAST-MODIFIED:20200929T130943Z
UID:6116-1601719200-1601726400@www.bostonbroadside.com
SUMMARY:CHATHAM TRUMP STANDOUT
DESCRIPTION:Here is the schedule for joint Chatham & Harwich RTCs standouts for October leading up to the election. \nOctober 3            Chatham \nOctober 10          Harwich \nOctober 17          Chatham \nOctober 24          Harwich \nOctober 31          Both Locations \nAll standouts from 10am till noon. \nChatham Standouts on Route 28 at the Crowell Road intersection / traffic lights \nHarwich Standouts at the corner of Routes 39 & 137 / East Harwich Four Corners
URL:https://www.bostonbroadside.com/event/chatham-trump-standout/
CATEGORIES:Mass
ATTACH;FMTTYPE=image/jpeg:https://www.bostonbroadside.com/wp-content/uploads/2020/09/Chatham.jpg
END:VEVENT
BEGIN:VEVENT
DTSTART;TZID=America/New_York:20201003T120000
DTEND;TZID=America/New_York:20201003T140000
DTSTAMP:20260421T105246
CREATED:20200922T022434Z
LAST-MODIFIED:20200922T022434Z
UID:5992-1601726400-1601733600@www.bostonbroadside.com
SUMMARY:No Forced Flue Shot Educational Rally - BOSTON COMMON
DESCRIPTION:  \n 
URL:https://www.bostonbroadside.com/event/no-forced-flue-shot-educational-rally-boston-common/
CATEGORIES:Mass
ATTACH;FMTTYPE=image/jpeg:https://www.bostonbroadside.com/wp-content/uploads/2020/09/NO_FLU.jpg
END:VEVENT
BEGIN:VEVENT
DTSTART;TZID=America/New_York:20201003T120000
DTEND;TZID=America/New_York:20201003T140000
DTSTAMP:20260421T105246
CREATED:20201003T121449Z
LAST-MODIFIED:20201003T121449Z
UID:6165-1601726400-1601733600@www.bostonbroadside.com
SUMMARY:SENATE WRITE-IN CANDIDATE DR. SHIVA RALLY - BOSTON COMMON
DESCRIPTION:Join us for Dr.SHIVA RALLY for US Senate. Working People Unite! \nTODAY – SATURDAY\, OCTOBER 3\, 12:00 Noon – 2:00 PM\nBOSTON COMMON – Parkman Bandstand
URL:https://www.bostonbroadside.com/event/senate-write-in-candidate-dr-shiva-rally-boston-common/
CATEGORIES:Mass
ATTACH;FMTTYPE=image/jpeg:https://www.bostonbroadside.com/wp-content/uploads/2020/08/Shiva_Ayyadurai___w.jpg
END:VEVENT
END:VCALENDAR