BEGIN:VCALENDAR
VERSION:2.0
PRODID:-//Boston Broadside    Notes Between Printed Issues - Subscribe to the Printed Newspaper   - There is no paper like the broadside! - ECPv6.15.16//NONSGML v1.0//EN
CALSCALE:GREGORIAN
METHOD:PUBLISH
X-ORIGINAL-URL:https://www.bostonbroadside.com
X-WR-CALDESC:Events for Boston Broadside    Notes Between Printed Issues - Subscribe to the Printed Newspaper   - There is no paper like the broadside!
REFRESH-INTERVAL;VALUE=DURATION:PT1H
X-Robots-Tag:noindex
X-PUBLISHED-TTL:PT1H
BEGIN:VTIMEZONE
TZID:America/New_York
BEGIN:DAYLIGHT
TZOFFSETFROM:-0500
TZOFFSETTO:-0400
TZNAME:EDT
DTSTART:20190310T070000
END:DAYLIGHT
BEGIN:STANDARD
TZOFFSETFROM:-0400
TZOFFSETTO:-0500
TZNAME:EST
DTSTART:20191103T060000
END:STANDARD
BEGIN:DAYLIGHT
TZOFFSETFROM:-0500
TZOFFSETTO:-0400
TZNAME:EDT
DTSTART:20200308T070000
END:DAYLIGHT
BEGIN:STANDARD
TZOFFSETFROM:-0400
TZOFFSETTO:-0500
TZNAME:EST
DTSTART:20201101T060000
END:STANDARD
BEGIN:DAYLIGHT
TZOFFSETFROM:-0500
TZOFFSETTO:-0400
TZNAME:EDT
DTSTART:20210314T070000
END:DAYLIGHT
BEGIN:STANDARD
TZOFFSETFROM:-0400
TZOFFSETTO:-0500
TZNAME:EST
DTSTART:20211107T060000
END:STANDARD
END:VTIMEZONE
BEGIN:VEVENT
DTSTART;TZID=America/New_York:20201024T130000
DTEND;TZID=America/New_York:20201024T150000
DTSTAMP:20260421T111111
CREATED:20201021T232640Z
LAST-MODIFIED:20201021T232640Z
UID:6394-1603544400-1603551600@www.bostonbroadside.com
SUMMARY:BELCHERTOWN: MAKE LIBERALS CRY AGAIN & BACK THE BLUE CONVOY TO ATHOL
DESCRIPTION:BELCHERTOWN: MAKE LIBERALS CRY AGAIN & BACK THE BLUE CONVOY TO ATHOL\nHosted by Fred Lowenthal and David Lane \nEVENT:\nBELCHERTOWN: MAKE LIBERALS CRY AGAIN & BACK THE BLUE CONVOY TO ATHOL\nHosted by Fred Lowenthal and David Lane \nDATE: SATURDAY\, OCTOBER 24\, 2020: 1:PM : On the Road at 2:PM\nLOCATION: Belchertown Common\, Belchertown\, MA \nDETAILS:\nMake Liberals Cry Again & BACK THE BLUE and TRUMP Convoy \nAll aboard the Train guys. Last train till Election Day. Let’s make it a big one! “It’s Gunna be huge” \nMeeting at the pizza place for lunch at 1 PM\, and will convoy at 2:PM.\nThat lets us drive through their area while they are under way; we will then park and join the Trump/Blue standout in overwhelming numbers! \nMAGA/KAG!
URL:https://www.bostonbroadside.com/event/belchertown-make-liberals-cry-again-back-the-blue-convoy-to-athol/
CATEGORIES:Mass
ATTACH;FMTTYPE=image/jpeg:https://www.bostonbroadside.com/wp-content/uploads/2020/09/TRUMP2020.jpg
END:VEVENT
END:VCALENDAR