BEGIN:VCALENDAR
VERSION:2.0
PRODID:-//Boston Broadside    Notes Between Printed Issues - Subscribe to the Printed Newspaper   - There is no paper like the broadside! - ECPv6.15.16//NONSGML v1.0//EN
CALSCALE:GREGORIAN
METHOD:PUBLISH
X-ORIGINAL-URL:https://www.bostonbroadside.com
X-WR-CALDESC:Events for Boston Broadside    Notes Between Printed Issues - Subscribe to the Printed Newspaper   - There is no paper like the broadside!
REFRESH-INTERVAL;VALUE=DURATION:PT1H
X-Robots-Tag:noindex
X-PUBLISHED-TTL:PT1H
BEGIN:VTIMEZONE
TZID:America/New_York
BEGIN:DAYLIGHT
TZOFFSETFROM:-0500
TZOFFSETTO:-0400
TZNAME:EDT
DTSTART:20220313T070000
END:DAYLIGHT
BEGIN:STANDARD
TZOFFSETFROM:-0400
TZOFFSETTO:-0500
TZNAME:EST
DTSTART:20221106T060000
END:STANDARD
BEGIN:DAYLIGHT
TZOFFSETFROM:-0500
TZOFFSETTO:-0400
TZNAME:EDT
DTSTART:20230312T070000
END:DAYLIGHT
BEGIN:STANDARD
TZOFFSETFROM:-0400
TZOFFSETTO:-0500
TZNAME:EST
DTSTART:20231105T060000
END:STANDARD
BEGIN:DAYLIGHT
TZOFFSETFROM:-0500
TZOFFSETTO:-0400
TZNAME:EDT
DTSTART:20240310T070000
END:DAYLIGHT
BEGIN:STANDARD
TZOFFSETFROM:-0400
TZOFFSETTO:-0500
TZNAME:EST
DTSTART:20241103T060000
END:STANDARD
END:VTIMEZONE
BEGIN:VEVENT
DTSTART;TZID=America/New_York:20230910T173000
DTEND;TZID=America/New_York:20230910T193000
DTSTAMP:20260421T044132
CREATED:20230908T215130Z
LAST-MODIFIED:20230908T215130Z
UID:13537-1694367000-1694374200@www.bostonbroadside.com
SUMMARY:"Make Your Voice Heard" in Concord\, New Hampshire
DESCRIPTION:SUNDAY: Make Your Voice Heard\nLearn how you can make a difference \n“Make Your Voice Heard in Concord”\nUpcoming session this SUNDAY September 10th\, free to attend. \nJoin the 603 Alliance\, Tri-County GOP\, and Winnipesaukee Republicans  for a special informational session about how state and local government work in New Hampshire\, and how you can impact change. \nWHEN: Sunday\, Sept 10\, 2023 at 5:30 p.m.\nWHERE: Pearson Community Center\, 7 Pearson Road\, Alton\, NH\nTo RSVP\, email info@603alliance.org. \nWe’ll talk about what’s happening in Concord\, how our laws are made\, and how everyone can make a difference in the process. \nTo find out how you can host a “Make Your Voice Heard in Concord” presentation\, contact us at info@603alliance.org.
URL:https://www.bostonbroadside.com/event/make-your-voice-heard-in-concord-new-hampshire/
CATEGORIES:NH
END:VEVENT
BEGIN:VEVENT
DTSTART;TZID=America/New_York:20230928T183000
DTEND;TZID=America/New_York:20230928T203000
DTSTAMP:20260421T044132
CREATED:20230908T215528Z
LAST-MODIFIED:20230908T215528Z
UID:13543-1695925800-1695933000@www.bostonbroadside.com
SUMMARY:DANGERS of K-12 Public Education - DERRY\, NH
DESCRIPTION:The Dangers of K-12 Public Education will be exposed  by Shawn McBreairty  at the Marion Gerrish Community Center\, 39 West Broadway in Derry\, NH on September 28th\, 2023 – 6:30pm to 8:30pm. Parental control along with teachers have long been victims of “government force” used as tools to target our children minds with anti-America\, bureaucratic curriculums created by the U.S. Department of Education and UNESCO.  \n  \nA great book  that challenges government schools called  “Crimes Of The Educators” co-authored by Alex Newman and Sam Blumenfeld reinforces McBreairty’s  facts that back up witty cultural critic Henry L. Mencken’s prophetic statement (1880-1926):  \n  \n“The aim of public education is not to spread enlightenment at all; it is simply to reduce as many individuals as possible to the same safe level\, to breed and train a standardized citizenry\, to put down dissent and originality. \n  \nMcBreairty  has appeared on Tucker Carlson\, the Ingrahm Angle and Steve Bannon’s War Room among many other TV and radio engagements. And look for his podcast called the “Maine Source of Truth.” He’ll be covering many of the crimes of the educational establishment such as hyper-sexualization  grooming in the classroom\, and CRT. Do they think parents are so naive that these will replace Godly – family disciplines\, core values needed to educate?  \n  \nFor more information contact Matthew Rhodes at 207-319-0970 or at rhodesmatthew431@gmail.com   Attendee’s must register at https//form.jotform.com//232328201086044 .
URL:https://www.bostonbroadside.com/event/dangers-of-k-12-public-education-derry-nh/
CATEGORIES:NH
END:VEVENT
END:VCALENDAR