BEGIN:VCALENDAR
VERSION:2.0
PRODID:-//Boston Broadside    Notes Between Printed Issues - Subscribe to the Printed Newspaper   - There is no paper like the broadside! - ECPv6.15.16//NONSGML v1.0//EN
CALSCALE:GREGORIAN
METHOD:PUBLISH
X-WR-CALNAME:Boston Broadside    Notes Between Printed Issues - Subscribe to the Printed Newspaper   - There is no paper like the broadside!
X-ORIGINAL-URL:https://www.bostonbroadside.com
X-WR-CALDESC:Events for Boston Broadside    Notes Between Printed Issues - Subscribe to the Printed Newspaper   - There is no paper like the broadside!
REFRESH-INTERVAL;VALUE=DURATION:PT1H
X-Robots-Tag:noindex
X-PUBLISHED-TTL:PT1H
BEGIN:VTIMEZONE
TZID:UTC
BEGIN:STANDARD
TZOFFSETFROM:+0000
TZOFFSETTO:+0000
TZNAME:UTC
DTSTART:20210101T000000
END:STANDARD
END:VTIMEZONE
BEGIN:VEVENT
DTSTART;TZID=UTC:20221012T173000
DTEND;TZID=UTC:20221012T190000
DTSTAMP:20260421T195040
CREATED:20221008T005808Z
LAST-MODIFIED:20221008T005847Z
UID:11696-1665595800-1665601200@www.bostonbroadside.com
SUMMARY:NEW HAMPSHIRE HOUSE REPUBLICANS AT TUSCAN KITCHEN - SALEM\, NH!
DESCRIPTION:
URL:https://www.bostonbroadside.com/event/new-hampshire-house-republicans-at-tuscan-kitchen-salem-nh/
CATEGORIES:NH
ATTACH;FMTTYPE=image/png:https://www.bostonbroadside.com/wp-content/uploads/2022/10/NH__HOUSE_REPUBLICANS.png
END:VEVENT
END:VCALENDAR