BEGIN:VCALENDAR
VERSION:2.0
PRODID:-//Boston Broadside    Notes Between Printed Issues - Subscribe to the Printed Newspaper   - There is no paper like the broadside! - ECPv6.15.16//NONSGML v1.0//EN
CALSCALE:GREGORIAN
METHOD:PUBLISH
X-WR-CALNAME:Boston Broadside    Notes Between Printed Issues - Subscribe to the Printed Newspaper   - There is no paper like the broadside!
X-ORIGINAL-URL:https://www.bostonbroadside.com
X-WR-CALDESC:Events for Boston Broadside    Notes Between Printed Issues - Subscribe to the Printed Newspaper   - There is no paper like the broadside!
REFRESH-INTERVAL;VALUE=DURATION:PT1H
X-Robots-Tag:noindex
X-PUBLISHED-TTL:PT1H
BEGIN:VTIMEZONE
TZID:America/New_York
BEGIN:DAYLIGHT
TZOFFSETFROM:-0500
TZOFFSETTO:-0400
TZNAME:EDT
DTSTART:20200308T070000
END:DAYLIGHT
BEGIN:STANDARD
TZOFFSETFROM:-0400
TZOFFSETTO:-0500
TZNAME:EST
DTSTART:20201101T060000
END:STANDARD
BEGIN:DAYLIGHT
TZOFFSETFROM:-0500
TZOFFSETTO:-0400
TZNAME:EDT
DTSTART:20210314T070000
END:DAYLIGHT
BEGIN:STANDARD
TZOFFSETFROM:-0400
TZOFFSETTO:-0500
TZNAME:EST
DTSTART:20211107T060000
END:STANDARD
BEGIN:DAYLIGHT
TZOFFSETFROM:-0500
TZOFFSETTO:-0400
TZNAME:EDT
DTSTART:20220313T070000
END:DAYLIGHT
BEGIN:STANDARD
TZOFFSETFROM:-0400
TZOFFSETTO:-0500
TZNAME:EST
DTSTART:20221106T060000
END:STANDARD
END:VTIMEZONE
BEGIN:VEVENT
DTSTART;TZID=America/New_York:20210926T130000
DTEND;TZID=America/New_York:20210926T160000
DTSTAMP:20260422T204907
CREATED:20210921T023331Z
LAST-MODIFIED:20210921T113036Z
UID:8970-1632661200-1632672000@www.bostonbroadside.com
SUMMARY:FREEDOM FEST RHODE ISLAND - SENT FROM: SUPER HAPPY FUN AMERICA
DESCRIPTION:C.O.R.R. Freedom Fest on 9/26\nThis is a reminder that C.O.R.R Freedom Fest is on Sunday\, September 26th at the East Warren Rod & Gun Club. \nYou have probably seen C.O.R.R members at our recent events.  They have been gracious enough to support us by ensuring the safety of all the participants.  Now it’s our turn to support them.  Let’s help make Freedom Fest a YUGE success by bringing our brand of happiness and fun to the East Warren Rod & Gun Club on 9/26.  For more information about C.O.R.R and Freedom fest please see their website and the flyer below. \nhttps://corrusa.com/ \n 
URL:https://www.bostonbroadside.com/event/freedom-fest-rhode-island-supper-happy-fun-america/
CATEGORIES:RI
ATTACH;FMTTYPE=image/jpeg:https://www.bostonbroadside.com/wp-content/uploads/2021/09/freedomefest.jpg
END:VEVENT
END:VCALENDAR