BEGIN:VCALENDAR
VERSION:2.0
PRODID:-//Boston Broadside    Notes Between Printed Issues - Subscribe to the Printed Newspaper   - There is no paper like the broadside! - ECPv6.15.16//NONSGML v1.0//EN
CALSCALE:GREGORIAN
METHOD:PUBLISH
X-ORIGINAL-URL:https://www.bostonbroadside.com
X-WR-CALDESC:Events for Boston Broadside    Notes Between Printed Issues - Subscribe to the Printed Newspaper   - There is no paper like the broadside!
REFRESH-INTERVAL;VALUE=DURATION:PT1H
X-Robots-Tag:noindex
X-PUBLISHED-TTL:PT1H
BEGIN:VTIMEZONE
TZID:America/New_York
BEGIN:DAYLIGHT
TZOFFSETFROM:-0500
TZOFFSETTO:-0400
TZNAME:EDT
DTSTART:20210314T070000
END:DAYLIGHT
BEGIN:STANDARD
TZOFFSETFROM:-0400
TZOFFSETTO:-0500
TZNAME:EST
DTSTART:20211107T060000
END:STANDARD
BEGIN:DAYLIGHT
TZOFFSETFROM:-0500
TZOFFSETTO:-0400
TZNAME:EDT
DTSTART:20220313T070000
END:DAYLIGHT
BEGIN:STANDARD
TZOFFSETFROM:-0400
TZOFFSETTO:-0500
TZNAME:EST
DTSTART:20221106T060000
END:STANDARD
BEGIN:DAYLIGHT
TZOFFSETFROM:-0500
TZOFFSETTO:-0400
TZNAME:EDT
DTSTART:20230312T070000
END:DAYLIGHT
BEGIN:STANDARD
TZOFFSETFROM:-0400
TZOFFSETTO:-0500
TZNAME:EST
DTSTART:20231105T060000
END:STANDARD
END:VTIMEZONE
BEGIN:VEVENT
DTSTART;TZID=America/New_York:20220122T130000
DTEND;TZID=America/New_York:20220122T150000
DTSTAMP:20260422T135656
CREATED:20220121T005910Z
LAST-MODIFIED:20220121T005910Z
UID:9914-1642856400-1642863600@www.bostonbroadside.com
SUMMARY:UCP Cape Cod Machine Gun Range Standout: Bourne Bridge Rotary\, Sat. 1/22 1-3 pm
DESCRIPTION:
URL:https://www.bostonbroadside.com/event/ucp-cape-cod-machine-gun-range-standout-bourne-bridge-rotary-sat-1-22-1-3-pm/
CATEGORIES:UCP
ATTACH;FMTTYPE=image/jpeg:https://www.bostonbroadside.com/wp-content/uploads/2022/01/IMG-5884.jpg
END:VEVENT
END:VCALENDAR